BEGIN:VCALENDAR
VERSION:2.0
PRODID:-//Institutional Advancement - ECPv6.11.2.1//NONSGML v1.0//EN
CALSCALE:GREGORIAN
METHOD:PUBLISH
X-ORIGINAL-URL:https://give.barton.edu
X-WR-CALDESC:Events for Institutional Advancement
REFRESH-INTERVAL;VALUE=DURATION:PT1H
X-Robots-Tag:noindex
X-PUBLISHED-TTL:PT1H
BEGIN:VTIMEZONE
TZID:UTC
BEGIN:STANDARD
TZOFFSETFROM:+0000
TZOFFSETTO:+0000
TZNAME:UTC
DTSTART:20240101T000000
END:STANDARD
END:VTIMEZONE
BEGIN:VEVENT
DTSTART;TZID=UTC:20241104T120000
DTEND;TZID=UTC:20241104T123000
DTSTAMP:20260420T201501
CREATED:20240925T180326Z
LAST-MODIFIED:20240925T180326Z
UID:4984-1730721600-1730723400@give.barton.edu
SUMMARY:Honors Faculty Lecture Series: Susan C. Fecho\, M.F.A.
DESCRIPTION:Honors Faculty Lecture Series \nSemester Theme: Fabric \nFeatured Speaker: Susan C. Fecho\, M.F.A. \nLearning Commons\, Hackney Library \nFor additional information\, contact Gerard Lange\, Director of the Whitehurst Family Honors Program\, at glange@barton.edu or 252-399-6475. \n  \nAbout Susan C. Fecho\, M.F.A.: \nSusan Fecho specializes in multi-media printmaking\, surface designer\, and illustration with a M.F.A. from ECU\, and botanical illustrator certificate from NCBG. Her lifelong devotion to art includes over 40 years of teaching and working with art students in the United States and abroad. In addition\, she has pursued postgraduate studies at various institutions including Jan Van Eyck Academie\, Humboldt Field Research Institute\, Milwaukee Institute of Art and Design\, Northern Illinois University\, NC Botanical Gardens and Penland School of Crafts. Fecho has exhibited nationally\, and internationally – and has received numerous awards\, grants\, and residencies. \nFecho\, born in Virginia and long-term resident of North Carolina\, is connected to “place” – she has a deep appreciation for the natural world of North Carolina\, her home. Fecho’s images have been accepted into several major collections: the Smithsonian Institution’s American Art Museum/National Portrait Gallery Library\, Washington\, D.C.; the Word and Image Department\, Victoria and Albert Museum\, London\, England; and the Museum of Women Artists\, Washington\, D.C. \nFecho’s academic contributions appear in scientific journals such as Nature Reviews Urology\, The Journal of Clinical Pharmacology and Therapeutics\, The Journal of Neurosurgery: Spine\, The Journal of Urology\, and The Neuronal & Systems Mechanisms of Affective Touch & Therapeutic Tissue Manipulation Research (NeuronS_MATTR) Network. Fecho’s work also appeared in educational/inspirational such as Forward Future: Journal of Integrative Teaching International\, Kakalak: An Anthology of Carolina Poets\, New Art International: A Compendium of Recent Work\, Portrait of the Outer Banks: An Artist’s Sketch\, Our State Magazine\, and VIVA NOLA Magazine.
URL:https://give.barton.edu/event/honors-faculty-lecture-series-susan-c-fecho-m-f-a/
LOCATION:Hackney Library
CATEGORIES:Lectures & Special Guests
END:VEVENT
BEGIN:VEVENT
DTSTART;TZID=UTC:20241028T120000
DTEND;TZID=UTC:20241028T123000
DTSTAMP:20260420T201501
CREATED:20240925T180112Z
LAST-MODIFIED:20240925T180112Z
UID:4979-1730116800-1730118600@give.barton.edu
SUMMARY:Honors Faculty Lecture Series: Roberta Draughn
DESCRIPTION:Honors Faculty Lecture Series \nSemester Theme: Fabric \nFeatured Speaker: Featured speaker: Roberta Draughn \nLearning Commons\, Hackney Library \nFor additional information\, contact Gerard Lange\, Director of the Whitehurst Family Honors Program\, at glange@barton.edu or 252-399-6475.
URL:https://give.barton.edu/event/honors-faculty-lecture-series-roberta-draughn/
LOCATION:Hackney Library
CATEGORIES:Lectures & Special Guests
END:VEVENT
BEGIN:VEVENT
DTSTART;TZID=UTC:20241021T120000
DTEND;TZID=UTC:20241021T123000
DTSTAMP:20260420T201501
CREATED:20240925T175940Z
LAST-MODIFIED:20240925T175940Z
UID:4975-1729512000-1729513800@give.barton.edu
SUMMARY:Honors Faculty Lecture Series: Susie Mallard Barnes\, Ph.D.\, MSW
DESCRIPTION:Honors Faculty Lecture Series \nSemester Theme: Fabric \nFeatured Speaker: Susie Mallard Barnes\, Ph.D.\, MSW \nLearning Commons\, Hackney Library \nFor additional information\, contact Gerard Lange\, Director of the Whitehurst Family Honors Program\, at glange@barton.edu or 252-399-6475. \n  \nAbout Susie Mallard Barnes\, Ph.D.\, MSW: \nDr. Susie Mallard Barnes serves as the Director of the Social Work Program\, overseeing both the Traditional and Professional Studies BSW options.  Dr. Barnes has over 20 years of experience in social work education\, program development and evaluation.  Prior to teaching\, Dr. Barnes worked in homeless services as the director of large shelter and transitional housing program in Raleigh. A Raleigh native\, Dr. Barnes earned her BSW from NC State and her MSW from UNC-Chapel Hill. Her PhD in social work is from U-Texas at Austin.  Dr. Barnes’ areas of interest and work include housing and food insecurity\, restorative Justice\, poverty as trauma\, race and gender bias\, and LGBTQ rights.
URL:https://give.barton.edu/event/honors-faculty-lecture-series-susie-mallard-barnes-ph-d-msw/
LOCATION:Hackney Library
CATEGORIES:Lectures & Special Guests
ATTACH;FMTTYPE=image/jpeg:https://give.barton.edu/wp-content/uploads/2024/07/Dorothy-Austin-Harrell_Honors-Lecture-Series-3.jpg
END:VEVENT
BEGIN:VEVENT
DTSTART;TZID=UTC:20241008T190000
DTEND;TZID=UTC:20241008T200000
DTSTAMP:20260420T201501
CREATED:20240925T175525Z
LAST-MODIFIED:20240925T175525Z
UID:4967-1728414000-1728417600@give.barton.edu
SUMMARY:Joyce T. Boone Southern Authors Series: Marjorie Hudson
DESCRIPTION:Featured speaker: Marjorie Hudson \nHoward Chapel \nFor additional information\, contact Michael Brantley\, Associate Professor of English\, at mkbrantley@barton.edu or 252-399-6370.
URL:https://give.barton.edu/event/joyce-t-boone-southern-authors-series-marjorie-hudson/
LOCATION:Howard Chapel
CATEGORIES:Lectures & Special Guests
ATTACH;FMTTYPE=image/jpeg:https://give.barton.edu/wp-content/uploads/2024/07/8.jpg
END:VEVENT
BEGIN:VEVENT
DTSTART;TZID=UTC:20241007T120000
DTEND;TZID=UTC:20241007T123000
DTSTAMP:20260420T201501
CREATED:20240716T185132Z
LAST-MODIFIED:20240716T185132Z
UID:4732-1728302400-1728304200@give.barton.edu
SUMMARY:Honors Faculty Lecture Series: Dr. Farzad Mohaddes\, Ph.D.
DESCRIPTION:Honors Faculty Lecture Series \nSemester Theme: Fabric \nFeatured Speaker: Dr. Farzad Mohaddes\, Ph.D. \nLearning Commons\, Hackney Library \nFor additional information\, contact Gerard Lange\, Director of the Whitehurst Family Honors Program\, at glange@barton.edu or 252-399-6475. \n  \nAbout Dr. Farzad Mohaddes\, Ph.D.: \nDr. Farzad Mohaddes was born and raised in Iran (AKA Persia). He completed his bachelor’s and master’s in textile chemistry and polymer science in Iran. In his late 20s\, Dr. Mohaddes moved to Australia to pursue his education in the same discipline at the Ph.D. level. He obtained his doctorate from the Royal Melbourne Institute of Technology (RMIT University)\, Melbourne\, Australia in 2015. Following his graduation\, Dr. Mohaddes started his first postdoctoral fellowship at RMIT School of Applied Chemistry focusing on the retrieval and characterization of cosmetic-based microplastics/microbeads from different origins i.e. fauna\, flora\, aqua\, and soil. Meanwhile\, Dr. Mohaddes enjoyed teaching chemistry courses and advising graduate researchers until he found his faith in moving to the US. He started his second post-doctoral fellowship at NC State University in 2018. At NC State\, Dr. Mohaddes led different research projects on metal oxide gas sensors\, microfabrication of 3D stackable thermoelectric generators (TEGs)\, fabrication and characterization of flexible TEGs\, development of porous elastomers with ultra-high and ultra-low thermal conductivity for energy harvesting applications. Dr. Mohaddes joined Barton College in the capacity of Assistant Professor of Chemistry in August 2023. \nSome of his areas of interest are spectroscopy\, chemical synthesis & functionalization\, pharmaceutical chemistry\, bio-composites\, and materials science & engineering. \nIn his spare time\, Dr. Mohaddes enjoys swimming\, playing chess\, traveling\, playing the piano and guitar\, and tasting new foods with family and friends.
URL:https://give.barton.edu/event/honors-faculty-lecture-series-dr-farzad-mohaddes-ph-d/
LOCATION:Hackney Library
CATEGORIES:Lectures & Special Guests
ATTACH;FMTTYPE=image/jpeg:https://give.barton.edu/wp-content/uploads/2024/07/Dorothy-Austin-Harrell_Honors-Lecture-Series-2.jpg
END:VEVENT
BEGIN:VEVENT
DTSTART;TZID=UTC:20240930T120000
DTEND;TZID=UTC:20240930T123000
DTSTAMP:20260420T201501
CREATED:20240716T184528Z
LAST-MODIFIED:20240716T184528Z
UID:4726-1727697600-1727699400@give.barton.edu
SUMMARY:Honors Faculty Lecture Series: Dorothy Austin-Harrell\, M.F.A.
DESCRIPTION:Honors Faculty Lecture Series \nSemester Theme: Fabric \nFeatured speaker: Dorothy Austin-Harrell \nLearning Commons\, Hackney Library \nFor additional information\, contact Gerard Lange\, Director of the Whitehurst Family Honors Program\, at glange@barton.edu or 252-399-6475. \n  \nAbout Dorothy Austin-Harrell\, M.F.A.: \nDorothy Austin-Harrell is an Assistant Professor of Theatre and Head of Costumes and Props. A native of North Carolina\, she received a dual B.F.A. in Theatre Arts from East Carolina University\, with concentrations in Musical Theatre and Design and Production. After graduating\, she worked as ECU’s Costume Shop Manager for several years before attending graduate school at the University of North Carolina School of the Arts to earn her terminal degree\, an M.F.A. in Costume Design. Prior to Barton\, she taught as a graduate assistant at UNCSA and a visiting professor at ECU. \nIn addition to designing or supervising the costumes and props for all of Barton’s student productions\, Dorothy continues to work as a professional costume designer. Theatres she has worked for include Theatre Raleigh\, RhinoLeap Productions\, Children’s Theatre of Charlotte\, Flat Rock Playhouse\, Fletcher Opera Institute\, Triad Stage\, and the Kennedy Center for the Performing Arts in Washington\, D.C. Notable works include costume design for Fletcher Opera Institute’s La Tragédie de Carmen\, which earned first place in the National Opera Association’s 2015-2016 Opera Production Competition. She was also a recipient of the Fletcher Fellowship in that same year.
URL:https://give.barton.edu/event/honors-faculty-lecture-series-dorothy-austin-harrell-m-f-a/
LOCATION:Hackney Library
CATEGORIES:Lectures & Special Guests
ATTACH;FMTTYPE=image/jpeg:https://give.barton.edu/wp-content/uploads/2024/07/Dorothy-Austin-Harrell_Honors-Lecture-Series.jpg
END:VEVENT
BEGIN:VEVENT
DTSTART;TZID=UTC:20240917T190000
DTEND;TZID=UTC:20240917T200000
DTSTAMP:20260420T201501
CREATED:20240716T184412Z
LAST-MODIFIED:20240716T184412Z
UID:4724-1726599600-1726603200@give.barton.edu
SUMMARY:Homegrown Writers Series
DESCRIPTION:Featured faculty authors: Dr. Jim Clark\, Dr. Morghan Bosch\, Dr. Luis Ayarza\, and Dr. Gerard Lange \nFor additional information\, contact Michael Brantley\, Associate Professor of English\, at mkbrantley@barton.edu or 252-399-6370.
URL:https://give.barton.edu/event/homegrown-writers-series/
LOCATION:Barton Art Galleries
CATEGORIES:Lectures & Special Guests
ATTACH;FMTTYPE=image/jpeg:https://give.barton.edu/wp-content/uploads/2024/07/Homegrown-Writers-Series_Sep17.jpg
END:VEVENT
END:VCALENDAR